BEGIN:VCALENDAR
VERSION:2.0
PRODID:-//Tukios.com/
BEGIN:VEVENT
UID:4087c6b2-b672-45f0-8cee-bf83d7d5a1a1@www.quallsfh.com
DTSTAMP:20260421T172334Z
DTSTART:20260422T170000Z
DTEND:20260422T180000Z
SUMMARY:Visitation
DESCRIPTION:
URL:https://www.quallsfh.com/obituaries/alex-dupree
LOCATION: 546 Harrison St  Batesville AR 72501
GEO:35.7693658;-91.6474402
END:VEVENT
END:VCALENDAR