BEGIN:VCALENDAR
VERSION:2.0
PRODID:-//Tukios.com/
BEGIN:VEVENT
UID:23972d2f-fe3d-4434-b580-cb685d682765@www.quallsfh.com
DTSTAMP:20260421T172226Z
DTSTART:20260422T190000Z
DTEND:20260422T200000Z
SUMMARY:Graveside Service
DESCRIPTION:
URL:https://www.quallsfh.com/obituaries/alex-dupree
LOCATION:Spotts Cemetery Spotts Lane  Poughkeepsie AR 72569
GEO:36.1006389;-91.4624064
END:VEVENT
END:VCALENDAR